BEGIN:VCALENDAR
VERSION:2.0
PRODID:SchoolNow
CALSCALE:GREGORIAN
BEGIN:VEVENT
UID:a62b51ea-6374-11f0-af17-0afff5b9ad9d
DTSTAMP:20251217T020514Z
SUMMARY:First day for students!
URL;VALUE=URI:https://www.sau14.org/emhs/calendar/8425946/first-day-for-stu
 dents
DTSTART;VALUE=DATE:20250826
DTEND;VALUE=DATE:20250827
END:VEVENT
END:VCALENDAR
