BEGIN:VCALENDAR
VERSION:2.0
PRODID:SchoolNow
CALSCALE:GREGORIAN
BEGIN:VEVENT
UID:b8099384-6808-11f0-8cbe-024b87960dfd
DTSTAMP:20251217T020514Z
SUMMARY:6th Grade to Burley Farms
URL;VALUE=URI:https://www.sau14.org/emhs/calendar/8441166/6th-grade-to-burl
 ey-farms
DTSTART:20251112T140000Z
DTEND:20251112T163000Z
END:VEVENT
END:VCALENDAR
