BEGIN:VCALENDAR
VERSION:2.0
PRODID:SchoolNow
CALSCALE:GREGORIAN
BEGIN:VEVENT
UID:b809b3be-6808-11f0-9d93-024b87960dfd
DTSTAMP:20251217T020514Z
SUMMARY:6th Grade to Burley Farms
URL;VALUE=URI:https://www.sau14.org/emhs/calendar/8441167/6th-grade-to-burl
 ey-farms
DTSTART:20251217T140000Z
DTEND:20251217T163000Z
END:VEVENT
END:VCALENDAR
