BEGIN:VCALENDAR
VERSION:2.0
PRODID:SchoolNow
CALSCALE:GREGORIAN
BEGIN:VEVENT
UID:b809b760-6808-11f0-9970-024b87960dfd
DTSTAMP:20251217T020514Z
SUMMARY:6th Grade to Burley Farms
URL;VALUE=URI:https://www.sau14.org/emhs/calendar/8441170/6th-grade-to-burl
 ey-farms
DTSTART:20260408T130000Z
DTEND:20260408T153000Z
END:VEVENT
END:VCALENDAR
