BEGIN:VCALENDAR
VERSION:2.0
PRODID:SchoolNow
CALSCALE:GREGORIAN
BEGIN:VEVENT
UID:b809b85a-6808-11f0-8e4a-024b87960dfd
DTSTAMP:20251217T020514Z
SUMMARY:6th Grade to Burley Farms
URL;VALUE=URI:https://www.sau14.org/emhs/calendar/8441171/6th-grade-to-burl
 ey-farms
DTSTART:20260527T130000Z
DTEND:20260527T153000Z
END:VEVENT
END:VCALENDAR
