BEGIN:VCALENDAR
VERSION:2.0
PRODID:SchoolNow
CALSCALE:GREGORIAN
BEGIN:VEVENT
UID:b809ba30-6808-11f0-b8cf-024b87960dfd
DTSTAMP:20251217T020514Z
SUMMARY:8th Grade to Burley Farms
URL;VALUE=URI:https://www.sau14.org/emhs/calendar/8441173/8th-grade-to-burl
 ey-farms
DTSTART:20251029T130000Z
DTEND:20251029T160000Z
END:VEVENT
END:VCALENDAR
