BEGIN:VCALENDAR
VERSION:2.0
PRODID:SchoolNow
CALSCALE:GREGORIAN
BEGIN:VEVENT
UID:b809bb20-6808-11f0-9673-024b87960dfd
DTSTAMP:20251217T020514Z
SUMMARY:( CANCELED) 7th Grade to Burley Farms
URL;VALUE=URI:https://www.sau14.org/emhs/calendar/8441174/canceled-7th-grad
 e-to-burley-farms
DTSTART:20251203T140000Z
DTEND:20251203T170000Z
END:VEVENT
END:VCALENDAR
