BEGIN:VCALENDAR
VERSION:2.0
PRODID:SchoolNow
CALSCALE:GREGORIAN
BEGIN:VEVENT
UID:b809bc06-6808-11f0-af2b-024b87960dfd
DTSTAMP:20251217T020514Z
SUMMARY:8th Grade to Burley Farms
URL;VALUE=URI:https://www.sau14.org/emhs/calendar/8441175/8th-grade-to-burl
 ey-farms
DTSTART:20260114T140000Z
DTEND:20260114T170000Z
END:VEVENT
END:VCALENDAR
