BEGIN:VCALENDAR
VERSION:2.0
PRODID:SchoolNow
CALSCALE:GREGORIAN
BEGIN:VEVENT
UID:b809bcf6-6808-11f0-8397-024b87960dfd
DTSTAMP:20251217T020514Z
SUMMARY:7th Grade to Burley Farms
URL;VALUE=URI:https://www.sau14.org/emhs/calendar/8441176/7th-grade-to-burl
 ey-farms
DTSTART:20260311T130000Z
DTEND:20260311T160000Z
END:VEVENT
END:VCALENDAR
