BEGIN:VCALENDAR
VERSION:2.0
PRODID:SchoolNow
CALSCALE:GREGORIAN
BEGIN:VEVENT
UID:b809c16a-6808-11f0-92e7-024b87960dfd
DTSTAMP:20251217T020514Z
SUMMARY:7th Grade to Burley Farms
URL;VALUE=URI:https://www.sau14.org/emhs/calendar/8441181/7th-grade-to-burl
 ey-farms
DTSTART:20260121T140000Z
DTEND:20260121T170000Z
END:VEVENT
END:VCALENDAR
