BEGIN:VCALENDAR
VERSION:2.0
PRODID:SchoolNow
CALSCALE:GREGORIAN
BEGIN:VEVENT
UID:b809c35e-6808-11f0-bc5d-024b87960dfd
DTSTAMP:20251217T020514Z
SUMMARY:7th Grade to Burley Farms
URL;VALUE=URI:https://www.sau14.org/emhs/calendar/8441183/7th-grade-to-burl
 ey-farms
DTSTART:20260422T130000Z
DTEND:20260422T160000Z
END:VEVENT
END:VCALENDAR
