BEGIN:VCALENDAR
VERSION:2.0
PRODID:SchoolNow
CALSCALE:GREGORIAN
BEGIN:VEVENT
UID:b809c520-6808-11f0-94ec-024b87960dfd
DTSTAMP:20251217T020514Z
SUMMARY:7th Grade to Burley Farms
URL;VALUE=URI:https://www.sau14.org/emhs/calendar/8441185/7th-grade-to-burl
 ey-farms
DTSTART:20251008T130000Z
DTEND:20251008T160000Z
END:VEVENT
END:VCALENDAR
