BEGIN:VCALENDAR
VERSION:2.0
PRODID:SchoolNow
CALSCALE:GREGORIAN
BEGIN:VEVENT
UID:b820964c-6808-11f0-8b3a-024b87960dfd
DTSTAMP:20251217T020515Z
SUMMARY:SCHOOL BOARD MEETING
URL;VALUE=URI:https://www.sau14.org/emhs/calendar/8441186/school-board-meet
 ing
DTSTART:20270318T230000Z
DTEND:20270319T010000Z
END:VEVENT
END:VCALENDAR
