BEGIN:VCALENDAR
VERSION:2.0
PRODID:SchoolNow
CALSCALE:GREGORIAN
BEGIN:VEVENT
UID:ad2aadc8-68d4-11f0-90fe-0affe1acfa8b
DTSTAMP:20251217T020514Z
SUMMARY:All School Assembly - Welcome Back!
URL;VALUE=URI:https://www.sau14.org/emhs/calendar/8443968/all-school-assemb
 ly-welcome-back
DTSTART:20250826T120000Z
DTEND:20250826T123000Z
END:VEVENT
END:VCALENDAR
