BEGIN:VCALENDAR
VERSION:2.0
PRODID:SchoolNow
CALSCALE:GREGORIAN
BEGIN:VEVENT
UID:ad2acd94-68d4-11f0-9e2b-0affe1acfa8b
DTSTAMP:20251217T020514Z
SUMMARY:All School Assembly - Homecoming Pep Rally
URL;VALUE=URI:https://www.sau14.org/emhs/calendar/8443969/all-school-assemb
 ly-homecoming-pep-rally
DTSTART:20250919T170500Z
DTEND:20250919T182000Z
END:VEVENT
END:VCALENDAR
