BEGIN:VCALENDAR
VERSION:2.0
PRODID:SchoolNow
CALSCALE:GREGORIAN
BEGIN:VEVENT
UID:ad2acf24-68d4-11f0-891c-0affe1acfa8b
DTSTAMP:20251217T020514Z
SUMMARY:All School Assembly
URL;VALUE=URI:https://www.sau14.org/emhs/calendar/8443970/all-school-assemb
 ly
DTSTART:20251219T180500Z
DTEND:20251219T192000Z
END:VEVENT
END:VCALENDAR
