BEGIN:VCALENDAR
VERSION:2.0
PRODID:SchoolNow
CALSCALE:GREGORIAN
BEGIN:VEVENT
UID:ad2ad046-68d4-11f0-a166-0affe1acfa8b
DTSTAMP:20251217T020514Z
SUMMARY:All School Assembly
URL;VALUE=URI:https://www.sau14.org/emhs/calendar/8443971/all-school-assemb
 ly
DTSTART:20260424T170500Z
DTEND:20260424T182000Z
END:VEVENT
END:VCALENDAR
