BEGIN:VCALENDAR
VERSION:2.0
PRODID:SchoolNow
CALSCALE:GREGORIAN
BEGIN:VEVENT
UID:d44485b0-6bd0-11f0-aced-02ce3c146423
DTSTAMP:20251217T020514Z
SUMMARY:Activity Night - Halloween
URL;VALUE=URI:https://www.sau14.org/emhs/calendar/8452304/activity-night-ha
 lloween
DTSTART:20251024T223000Z
DTEND:20251025T000000Z
END:VEVENT
END:VCALENDAR
