BEGIN:VCALENDAR
VERSION:2.0
PRODID:SchoolNow
CALSCALE:GREGORIAN
BEGIN:VEVENT
UID:d444a77a-6bd0-11f0-bf37-02ce3c146423
DTSTAMP:20251217T020514Z
SUMMARY:( Postponed ) Activity Night - Holiday
URL;VALUE=URI:https://www.sau14.org/emhs/calendar/8452305/postponed-activit
 y-night-holiday
DTSTART:20251212T233000Z
DTEND:20251213T010000Z
END:VEVENT
END:VCALENDAR
