BEGIN:VCALENDAR
VERSION:2.0
PRODID:SchoolNow
CALSCALE:GREGORIAN
BEGIN:VEVENT
UID:d444a90a-6bd0-11f0-bc06-02ce3c146423
DTSTAMP:20251217T020514Z
SUMMARY:Activity Night - Valentine's
URL;VALUE=URI:https://www.sau14.org/emhs/calendar/8452306/activity-night-va
 lentines
DTSTART:20260213T233000Z
DTEND:20260214T010000Z
END:VEVENT
END:VCALENDAR
