BEGIN:VCALENDAR
VERSION:2.0
PRODID:SchoolNow
CALSCALE:GREGORIAN
BEGIN:VEVENT
UID:d444aa36-6bd0-11f0-93ac-02ce3c146423
DTSTAMP:20251217T020514Z
SUMMARY:Activity Night - Luau
URL;VALUE=URI:https://www.sau14.org/emhs/calendar/8452307/activity-night-lu
 au
DTSTART:20260417T223000Z
DTEND:20260418T000000Z
END:VEVENT
END:VCALENDAR
