BEGIN:VCALENDAR
VERSION:2.0
PRODID:SchoolNow
CALSCALE:GREGORIAN
BEGIN:VEVENT
UID:d1159c52-6c03-11f0-8ecb-0a58a9feac02
DTSTAMP:20251217T020514Z
SUMMARY:Open House
URL;VALUE=URI:https://www.sau14.org/emhs/calendar/8453786/open-house
DTSTART:20250909T220000Z
DTEND:20250909T230000Z
END:VEVENT
END:VCALENDAR
