BEGIN:VCALENDAR
VERSION:2.0
PRODID:SchoolNow
CALSCALE:GREGORIAN
BEGIN:VEVENT
UID:d115bef8-6c03-11f0-8df9-0a58a9feac02
DTSTAMP:20251217T020514Z
SUMMARY:Homecoming Spirit Week - Multicolor Monday
URL;VALUE=URI:https://www.sau14.org/emhs/calendar/8453787/homecoming-spirit
 -week-multicolor-monday
DTSTART;VALUE=DATE:20250915
DTEND;VALUE=DATE:20250916
END:VEVENT
END:VCALENDAR
