BEGIN:VCALENDAR
VERSION:2.0
PRODID:SchoolNow
CALSCALE:GREGORIAN
BEGIN:VEVENT
UID:d115c07e-6c03-11f0-8055-0a58a9feac02
DTSTAMP:20251217T020514Z
SUMMARY:HS - S2 Finals Week
URL;VALUE=URI:https://www.sau14.org/emhs/calendar/8453788/hs-s2-finals-week
DTSTART;VALUE=DATE:20260609
DTEND;VALUE=DATE:20260613
END:VEVENT
END:VCALENDAR
