BEGIN:VCALENDAR
VERSION:2.0
PRODID:SchoolNow
CALSCALE:GREGORIAN
BEGIN:VEVENT
UID:d115c1aa-6c03-11f0-b82b-0a58a9feac02
DTSTAMP:20251217T020514Z
SUMMARY:HS - S2 Finals Reassessment Days
URL;VALUE=URI:https://www.sau14.org/emhs/calendar/8453789/hs-s2-finals-reas
 sessment-days
DTSTART;VALUE=DATE:20260615
DTEND;VALUE=DATE:20260617
END:VEVENT
END:VCALENDAR
