BEGIN:VCALENDAR
VERSION:2.0
PRODID:SchoolNow
CALSCALE:GREGORIAN
BEGIN:VEVENT
UID:bcc0ae88-6d9b-11f0-84b3-022472a27115
DTSTAMP:20251217T020514Z
SUMMARY:HS - S1 Finals Week
URL;VALUE=URI:https://www.sau14.org/emhs/calendar/8459315/hs-s1-finals-week
DTSTART;VALUE=DATE:20260120
DTEND;VALUE=DATE:20260124
END:VEVENT
END:VCALENDAR
