BEGIN:VCALENDAR
VERSION:2.0
PRODID:SchoolNow
CALSCALE:GREGORIAN
BEGIN:VEVENT
UID:bcc0cea4-6d9b-11f0-bf25-022472a27115
DTSTAMP:20251217T020514Z
SUMMARY:HS - S1 Finals Reassement Days
URL;VALUE=URI:https://www.sau14.org/emhs/calendar/8459316/hs-s1-finals-reas
 sement-days
DTSTART;VALUE=DATE:20260126
DTEND;VALUE=DATE:20260128
END:VEVENT
END:VCALENDAR
