BEGIN:VCALENDAR
VERSION:2.0
PRODID:SchoolNow
CALSCALE:GREGORIAN
BEGIN:VEVENT
UID:bcc0d08e-6d9b-11f0-b905-022472a27115
DTSTAMP:20251217T020514Z
SUMMARY:Semester 1 Begins
URL;VALUE=URI:https://www.sau14.org/emhs/calendar/8459317/semester-1-begins
DTSTART;VALUE=DATE:20250826
DTEND;VALUE=DATE:20250827
END:VEVENT
END:VCALENDAR
