BEGIN:VCALENDAR
VERSION:2.0
PRODID:SchoolNow
CALSCALE:GREGORIAN
BEGIN:VEVENT
UID:9380ee7a-76c4-11f0-b26c-0a58a9feac02
DTSTAMP:20251217T020514Z
SUMMARY:Middle School Parent & Athlete Meeting
URL;VALUE=URI:https://www.sau14.org/emhs/calendar/8490437/middle-school-par
 ent-athlete-meeting
DTSTART:20250820T220000Z
DTEND:20250820T230000Z
END:VEVENT
END:VCALENDAR
