BEGIN:VCALENDAR
VERSION:2.0
PRODID:SchoolNow
CALSCALE:GREGORIAN
BEGIN:VEVENT
UID:89d9d48c-7790-11f0-bd5f-0a58a9feac02
DTSTAMP:20251217T020514Z
SUMMARY:PAC Meeting Info Night
LOCATION:O'Day Gym
URL;VALUE=URI:https://www.sau14.org/emhs/calendar/8494458/pac-meeting-info-
 night
DTSTART:20250820T211500Z
DTEND:20250820T220000Z
END:VEVENT
END:VCALENDAR
