BEGIN:VCALENDAR
VERSION:2.0
PRODID:SchoolNow
CALSCALE:GREGORIAN
BEGIN:VEVENT
UID:74d0329a-7928-11f0-85eb-0a58a9feac02
DTSTAMP:20251217T020514Z
SUMMARY:Freshman Orientation
URL;VALUE=URI:https://www.sau14.org/emhs/calendar/8508021/freshman-orientat
 ion
DTSTART:20250825T170000Z
DTEND:20250825T190000Z
END:VEVENT
END:VCALENDAR
