BEGIN:VCALENDAR
VERSION:2.0
PRODID:SchoolNow
CALSCALE:GREGORIAN
BEGIN:VEVENT
UID:71934788-795b-11f0-9cd8-02f6dfce7ab9
DTSTAMP:20251217T020514Z
SUMMARY:EMHS PTO Meeting
LOCATION:Middle School Art Room
URL;VALUE=URI:https://www.sau14.org/emhs/calendar/8508924/emhs-pto-meeting
DTSTART:20251007T220000Z
DTEND:20251007T230000Z
END:VEVENT
END:VCALENDAR
