BEGIN:VCALENDAR
VERSION:2.0
PRODID:SchoolNow
CALSCALE:GREGORIAN
BEGIN:VEVENT
UID:71934990-795b-11f0-b2be-02f6dfce7ab9
DTSTAMP:20251217T020514Z
SUMMARY:EMHS PTO Meeting
LOCATION:Middle School Art Room
URL;VALUE=URI:https://www.sau14.org/emhs/calendar/8508926/emhs-pto-meeting
DTSTART:20251118T230000Z
DTEND:20251119T000000Z
END:VEVENT
END:VCALENDAR
