BEGIN:VCALENDAR
VERSION:2.0
PRODID:SchoolNow
CALSCALE:GREGORIAN
BEGIN:VEVENT
UID:71934a80-795b-11f0-882d-02f6dfce7ab9
DTSTAMP:20251217T020514Z
SUMMARY:( Canceled ) EMHS PTO Meeting
LOCATION:Middle School Art Room
URL;VALUE=URI:https://www.sau14.org/emhs/calendar/8508927/canceled-emhs-pto
 -meeting
DTSTART:20251209T230000Z
DTEND:20251210T000000Z
END:VEVENT
END:VCALENDAR
