BEGIN:VCALENDAR
VERSION:2.0
PRODID:SchoolNow
CALSCALE:GREGORIAN
BEGIN:VEVENT
UID:71934e0e-795b-11f0-9e7b-02f6dfce7ab9
DTSTAMP:20251217T020514Z
SUMMARY:EMHS PTO Meeting
LOCATION:Middle School Art Room
URL;VALUE=URI:https://www.sau14.org/emhs/calendar/8508931/emhs-pto-meeting
DTSTART:20260407T220000Z
DTEND:20260407T230000Z
END:VEVENT
END:VCALENDAR
