BEGIN:VCALENDAR
VERSION:2.0
PRODID:SchoolNow
CALSCALE:GREGORIAN
BEGIN:VEVENT
UID:dfd588fa-7cbc-11f0-8e57-0affc0542479
DTSTAMP:20251217T020515Z
SUMMARY:SCHOOL BOARD MEETING
URL;VALUE=URI:https://www.sau14.org/emhs/calendar/8520957/school-board-meet
 ing
DTSTART:20270415T230000Z
DTEND:20270416T010000Z
END:VEVENT
END:VCALENDAR
