BEGIN:VCALENDAR
VERSION:2.0
PRODID:SchoolNow
CALSCALE:GREGORIAN
BEGIN:VEVENT
UID:4d4b4270-8817-11f0-b103-0a58a9feac02
DTSTAMP:20251217T020514Z
SUMMARY:Craft Fair  - EMHS
URL;VALUE=URI:https://www.sau14.org/emhs/calendar/8570714/craft-fair-emhs
DTSTART:20251108T140000Z
DTEND:20251108T210000Z
END:VEVENT
END:VCALENDAR
