BEGIN:VCALENDAR
VERSION:2.0
PRODID:SchoolNow
CALSCALE:GREGORIAN
BEGIN:VEVENT
UID:4d67193c-8817-11f0-81ce-0a58a9feac02
DTSTAMP:20251217T020515Z
SUMMARY:Epping Project Grad Savers Fundraiser
URL;VALUE=URI:https://www.sau14.org/emhs/calendar/8570747/epping-project-gr
 ad-savers-fundraiser
DTSTART;VALUE=DATE:20251002
DTEND;VALUE=DATE:20251003
END:VEVENT
END:VCALENDAR
