BEGIN:VCALENDAR
VERSION:2.0
PRODID:SchoolNow
CALSCALE:GREGORIAN
BEGIN:VEVENT
UID:4d6724ea-8817-11f0-9674-0a58a9feac02
DTSTAMP:20251217T020515Z
SUMMARY:Epping Project Grad Savers Fundraiser
URL;VALUE=URI:https://www.sau14.org/emhs/calendar/8570760/epping-project-gr
 ad-savers-fundraiser
DTSTART;VALUE=DATE:20251015
DTEND;VALUE=DATE:20251016
END:VEVENT
END:VCALENDAR
