BEGIN:VCALENDAR
VERSION:2.0
PRODID:SchoolNow
CALSCALE:GREGORIAN
BEGIN:VEVENT
UID:4d67305c-8817-11f0-9f47-0a58a9feac02
DTSTAMP:20251217T020515Z
SUMMARY:Epping Project Grad Savers Fundraiser
URL;VALUE=URI:https://www.sau14.org/emhs/calendar/8570772/epping-project-gr
 ad-savers-fundraiser
DTSTART;VALUE=DATE:20251027
DTEND;VALUE=DATE:20251028
END:VEVENT
END:VCALENDAR
