BEGIN:VCALENDAR
VERSION:2.0
PRODID:SchoolNow
CALSCALE:GREGORIAN
BEGIN:VEVENT
UID:4d6735b6-8817-11f0-9b19-0a58a9feac02
DTSTAMP:20251217T020515Z
SUMMARY:Epping Project Grad Savers Fundraiser
URL;VALUE=URI:https://www.sau14.org/emhs/calendar/8570776/epping-project-gr
 ad-savers-fundraiser
DTSTART;VALUE=DATE:20251031
DTEND;VALUE=DATE:20251101
END:VEVENT
END:VCALENDAR
