BEGIN:VCALENDAR
VERSION:2.0
PRODID:SchoolNow
CALSCALE:GREGORIAN
BEGIN:VEVENT
UID:4d6736b0-8817-11f0-878d-0a58a9feac02
DTSTAMP:20251217T020515Z
SUMMARY:Epping Project Grad Savers Fundraiser
URL;VALUE=URI:https://www.sau14.org/emhs/calendar/8570777/epping-project-gr
 ad-savers-fundraiser
DTSTART;VALUE=DATE:20251101
DTEND;VALUE=DATE:20251102
END:VEVENT
END:VCALENDAR
