BEGIN:VCALENDAR
VERSION:2.0
PRODID:SchoolNow
CALSCALE:GREGORIAN
BEGIN:VEVENT
UID:4a670a16-884a-11f0-a0dd-0a58a9feac02
DTSTAMP:20251217T020514Z
SUMMARY:Homecoming Weekend!  Girl's Soccer V. Newmarket
URL;VALUE=URI:https://www.sau14.org/emhs/calendar/8572623/homecoming-weeken
 d-girls-soccer-v-newmarket
DTSTART:20250920T140000Z
DTEND:20250920T150000Z
END:VEVENT
END:VCALENDAR
