BEGIN:VCALENDAR
VERSION:2.0
PRODID:SchoolNow
CALSCALE:GREGORIAN
BEGIN:VEVENT
UID:4a670dae-884a-11f0-ba44-0a58a9feac02
DTSTAMP:20251217T020514Z
SUMMARY:Homecoming Weekend!  Boys' Soccer V. New Market
URL;VALUE=URI:https://www.sau14.org/emhs/calendar/8572624/homecoming-weeken
 d-boys-soccer-v-new-market
DTSTART:20250920T160000Z
DTEND:20250920T170000Z
END:VEVENT
END:VCALENDAR
