BEGIN:VCALENDAR
VERSION:2.0
PRODID:SchoolNow
CALSCALE:GREGORIAN
BEGIN:VEVENT
UID:4a670eee-884a-11f0-bb5e-0a58a9feac02
DTSTAMP:20251217T020514Z
SUMMARY:Homecoming Weekend!  Football
URL;VALUE=URI:https://www.sau14.org/emhs/calendar/8572625/homecoming-weeken
 d-football
DTSTART:20250920T180000Z
DTEND:20250920T200000Z
END:VEVENT
END:VCALENDAR
