BEGIN:VCALENDAR
VERSION:2.0
PRODID:SchoolNow
CALSCALE:GREGORIAN
BEGIN:VEVENT
UID:4a670ffc-884a-11f0-ba55-0a58a9feac02
DTSTAMP:20251217T020514Z
SUMMARY:Homecoming Weekend! Homecoming Dance
URL;VALUE=URI:https://www.sau14.org/emhs/calendar/8572626/homecoming-weeken
 d-homecoming-dance
DTSTART:20250920T220000Z
DTEND:20250921T010000Z
END:VEVENT
END:VCALENDAR
