BEGIN:VCALENDAR
VERSION:2.0
PRODID:SchoolNow
CALSCALE:GREGORIAN
BEGIN:VEVENT
UID:4a6710ec-884a-11f0-be9c-0a58a9feac02
DTSTAMP:20251217T020514Z
SUMMARY:World Cultures Field Trip/  Hype Day
LOCATION:5 Edgewood Rd\, Durham\, NH 03824\, USA
URL;VALUE=URI:https://www.sau14.org/emhs/calendar/8572627/world-cultures-fi
 eld-trip-hype-day
DTSTART:20260319T114500Z
DTEND:20260319T181500Z
END:VEVENT
END:VCALENDAR
