BEGIN:VCALENDAR
VERSION:2.0
PRODID:SchoolNow
CALSCALE:GREGORIAN
BEGIN:VEVENT
UID:4a6711d2-884a-11f0-9221-0a58a9feac02
DTSTAMP:20251217T020514Z
SUMMARY:YMCA Youth and Government Field Trip to NH State House
LOCATION:New Hampshire State House\, 107 N Main St\, Concord\, NH 03301\, U
 SA
URL;VALUE=URI:https://www.sau14.org/emhs/calendar/8572628/ymca-youth-and-go
 vernment-field-trip-to-nh-state-house
DTSTART;VALUE=DATE:20260410
DTEND;VALUE=DATE:20260411
END:VEVENT
END:VCALENDAR
