BEGIN:VCALENDAR
VERSION:2.0
PRODID:SchoolNow
CALSCALE:GREGORIAN
BEGIN:VEVENT
UID:4a6712b8-884a-11f0-b7b1-0a58a9feac02
DTSTAMP:20251217T020514Z
SUMMARY:Reach High Scholars Field Trip / St. Anselm College
URL;VALUE=URI:https://www.sau14.org/emhs/calendar/8572629/reach-high-schola
 rs-field-trip-st-anselm-college
DTSTART:20251117T130000Z
DTEND:20251117T191500Z
END:VEVENT
END:VCALENDAR
