BEGIN:VCALENDAR
VERSION:2.0
PRODID:SchoolNow
CALSCALE:GREGORIAN
BEGIN:VEVENT
UID:4a75977a-884a-11f0-8a21-0a58a9feac02
DTSTAMP:20251217T020515Z
SUMMARY:Class Of 2027 Calendar Fundraiser
URL;VALUE=URI:https://www.sau14.org/emhs/calendar/8572632/class-of-2027-cal
 endar-fundraiser
DTSTART;VALUE=DATE:20250912
DTEND;VALUE=DATE:20250913
END:VEVENT
END:VCALENDAR
